BEGIN:VCALENDAR
VERSION:2.0
PRODID:-//ChamberMaster//Event Calendar 2.0//EN
METHOD:PUBLISH
X-PUBLISHED-TTL:P3D
REFRESH-INTERVAL:P3D
CALSCALE:GREGORIAN
BEGIN:VEVENT
DTSTART:20260501T150000Z
DTEND:20260501T170000Z
X-MICROSOFT-CDO-ALLDAYEVENT:FALSE
SUMMARY:Frost Shred-It
DESCRIPTION:Join us for complimentary shredding services at our Wadley Financial Center. We encourage you to bring your documents\, start shredding and protect your security. Only paper products will be accepted\, with a limit of 10 boxes/bags per visitor. This event is free and open to the public. We hope to see you there! For shredding guidelines\, please visit: http://bit.ly/shredit-frost
X-ALT-DESC;FMTTYPE=text/html:Join us for complimentary shredding services at our Wadley Financial Center. We encourage you to bring your documents\, start shredding and protect your security. Only paper products will be accepted\, with a limit of 10 boxes/bags per visitor. This event is free and open to the public. We hope to see you there! For shredding guidelines\, please visit: http://bit.ly/shredit-frost
LOCATION:Frost Bank Wadley Financial Center 800 W Wadley Ave\, Midland\, TX 79705
UID:e.2748.12804
SEQUENCE:3
DTSTAMP:20260421T182250Z
URL:https://business.midlandtxchamber.com/events/details/frost-shred-it-12804
END:VEVENT

END:VCALENDAR
