BEGIN:VCALENDAR
VERSION:2.0
PRODID:-//ChamberMaster//Event Calendar 2.0//EN
METHOD:PUBLISH
X-PUBLISHED-TTL:P3D
REFRESH-INTERVAL:P3D
CALSCALE:GREGORIAN
BEGIN:VEVENT
DTSTART:20260530T190000Z
DTEND:20260530T203000Z
X-MICROSOFT-CDO-ALLDAYEVENT:FALSE
SUMMARY:Cornerstone Leveling at Gary Painter Detention Center
DESCRIPTION:Masonic Cornerstone leveling by The Grand Lodge of Texas at the Gary Painter Detention Center at 2700 County Road 1140 between Greenwood and Midland.
X-ALT-DESC;FMTTYPE=text/html:Masonic Cornerstone leveling by The Grand Lodge of Texas at the Gary Painter Detention Center at&nbsp\;<span style="color:#222222"><span style="font-family:arial\,sans-serif"><span style="font-size:11.0pt">2700 County Road 1140</span></span></span> between Greenwood and Midland.
LOCATION:
UID:e.2748.12815
SEQUENCE:3
DTSTAMP:20260421T182310Z
URL:https://business.midlandtxchamber.com/events/details/cornerstone-leveling-at-gary-painter-detention-center-12815
END:VEVENT

END:VCALENDAR
