BEGIN:VCALENDAR
VERSION:2.0
PRODID:-//ChamberMaster//Event Calendar 2.0//EN
METHOD:PUBLISH
X-PUBLISHED-TTL:P3D
REFRESH-INTERVAL:P3D
CALSCALE:GREGORIAN
BEGIN:VEVENT
DTSTART;VALUE=DATE:20260608
DTEND;VALUE=DATE:20260610
TRANSP:TRANSPARENT
X-MICROSOFT-CDO-ALLDAYEVENT:TRUE
SUMMARY:2nd Annual Permian Power Conference
DESCRIPTION:Join us on June 8-9\, 2026\, at the Horseshoe Arena in Midland\, TX\, for a unique conference led by energy veterans with deep West Texas ties. We anticipate over 800 participants\, more than 90 sponsors\, and a lineup of 80+ top-tier speakers from the Permian Power sector\, poised to drive transformative change in the region's electric power landscape. This event will bring together power-focused leaders from oil and gas\, AI data centers\, tech\, cryptocurrency\, renewables\, battery storage\, micro-grids\, nuclear\, electric power as a service\, mobile power generation\, CNG\, capital markets\, utilities\, government\, equipment\, engineering\, and construction.
X-ALT-DESC;FMTTYPE=text/html:Join us on June 8-9\, 2026\, at the Horseshoe Arena in Midland\, TX\, for a unique conference led by energy veterans with deep West Texas ties. We anticipate over 800 participants\, more than 90 sponsors\, and a lineup of 80+ top-tier speakers from the Permian Power sector\, poised to drive transformative change in the region&rsquo\;s electric power landscape. This event will bring together power-focused leaders from oil and gas\, AI data centers\, tech\, cryptocurrency\, renewables\, battery storage\, micro-grids\, nuclear\, electric power as a service\, mobile power generation\, CNG\, capital markets\, utilities\, government\, equipment\, engineering\, and construction.
LOCATION:Horseshoe Arena\, Midland TX
UID:e.2748.12814
SEQUENCE:3
DTSTAMP:20260421T172535Z
URL:https://business.midlandtxchamber.com/events/details/2nd-annual-permian-power-conference-12814
END:VEVENT

END:VCALENDAR
