BEGIN:VCALENDAR
VERSION:2.0
PRODID:-//ChamberMaster//Event Calendar 2.0//EN
METHOD:PUBLISH
X-PUBLISHED-TTL:P3D
REFRESH-INTERVAL:P3D
CALSCALE:GREGORIAN
BEGIN:VEVENT
DTSTART:20260821T130000Z
DTEND:20260821T220000Z
X-MICROSOFT-CDO-ALLDAYEVENT:FALSE
SUMMARY:15th Annual Pull for a Promise Clay Shoot
DESCRIPTION:Join us for the 15th Annual Pull for a Promise Clay Shoot\, a milestone event benefitting Family Promise of Midland. This exciting event brings together community\, competition\, and compassion to support families in need. Every shot taken help's provide shelter\, stability\, and hope to families working toward independence. Be part of the tradition and help us continue building brighter futures\, one shot at a time.
X-ALT-DESC;FMTTYPE=text/html:Join us for the 15th Annual Pull for a Promise Clay Shoot\, a milestone event benefitting Family Promise of Midland.&nbsp\;This exciting event brings together community\, competition\, and compassion to support families in need. Every shot taken help&#39\;s provide shelter\, stability\, and hope to families working toward independence.&nbsp\;Be part of the tradition and help us continue building brighter futures\, one shot at a time.&nbsp\;
LOCATION:Midland Shooters Association 7400 W County Road 170 Midland\, TX 79706
UID:e.2748.12806
SEQUENCE:3
DTSTAMP:20260421T172535Z
URL:https://business.midlandtxchamber.com/events/details/15th-annual-pull-for-a-promise-clay-shoot-12806
END:VEVENT

END:VCALENDAR
